BEGIN:VCALENDAR
VERSION:2.0
PRODID:-//Eventin//Event Calendar//EN
CALSCALE:GREGORIAN
METHOD:PUBLISH
BEGIN:VEVENT
UID:f9822e45301cc520622bd09a11a4741b@www.naturbuehnemaxen.de
SUMMARY:Thomas Kaufmann – Der betrunkene Sachse
DESCRIPTION:DER BETRUNKENE SACHSE\nNÜCHTERN BETRACHTET WAR’S BETRUNKEN B
 ESSER\nEigentlich wollte Paul seine Ehefrau schon längst als außergewöhn
 liche Belastung absetzen\, doch sie ist immer noch da: „de Muddi" – gro
 ße Gewohnheitsliebe und Endgegner zugleich. Nur einmal hat er ihr widerspr
 ochen. Seitdem hört er auf dem linken Auge nichts mehr.Kein Wunder also\, 
 dass Paul auch 30 Jahre nach der durchzechten Hochzeitsnacht immer noch aus
 nüchtert. Aber wer schwankt\, hat schließlich mehr vom Weg. Mittlerweile 
 schlafen beide getrennt\, doch das Sakrament der Ehe liegt noch immer wie e
 in Fluch auf ihrem Segen.So stolpert Paul immer öfter allein durchs Leben.
  Mit fundiertem Halbwissen baut er das IKEA-Bett auch ohne Anleitung zusamm
 en\, um am Ende festzustellen\, dass er ein Regal gekauft hat. Da kann auch
  seine neue „Freundin" Alexa nicht helfen. Also doch lieber natürliche D
 ummheit\, als künstliche Intelligenz.Schlussendlich aber muss ein Mann tun
 \, was ein Mann tun muss. Außer\, de Muddi sieht das anders\, dann nicht. 
 Bald feiern beide „Blumenhochzeit". Dann ist sie verwelkt und er verdufte
 t.Und auch wenn Alkohol nur chemisch gesehen eine Lösung ist\, war es nüc
 htern betrachtet\, betrunken wirklich besser.Mit „Mein Freund\, der betru
 nkene Sachse" schuf Thomas Kaufmann eine Hommage auf den verstorbenen Kabar
 ettisten Olaf Böhme\, die so manchen Gast vor Lachen\, als auch vor Rühru
 ng weinen ließ.Nun nimmt er Paul\, den betrunkenen Sachsen\, erneut an die
  Hand und führt ihn in die heutige Zeit. Natürlich nicht ohne all die bis
 her unerwähnten Schätze mit in den Einkaufsbeutel zu packen. Denn es gibt
  noch so viel zu berichten: von Strickkleidern und Kanarienvögeln\, von De
 ssous und Tupperdosen\, von Urlaub\, Autos und anderen Katastrophen.\n\n\n\
 n \n\nwww.olaf-boehme.de
LOCATION:Online
DTSTAMP:20260422T224410Z
DTSTART:20260703T180000Z
DTEND:20260703T210000Z
END:VEVENT
END:VCALENDAR
