BEGIN:VCALENDAR
VERSION:2.0
PRODID:-//Eventin//Event Calendar//EN
CALSCALE:GREGORIAN
METHOD:PUBLISH
BEGIN:VEVENT
UID:273d8ee3af430f9074c9ccf05ccc9a7a@www.naturbuehnemaxen.de
SUMMARY:Peter Flache – “Sommernacht und flache Sprüche”
DESCRIPTION:Ein bodenloses Unterfangen mit Peter Flache\nJedesmal das Selbe
  und trotzdem immer neu und anders. Peter Flache im Heimspiel – eine wild
 e Orgie aus Liedern und Gedichten mit jener Mischung aus Un- und Scharfsinn
 \, wie sie nur in der Naturbühne geht. Auch wenn das Lachen im Halse steck
 en bleibt: Alles muss raus!
LOCATION:Naturbühne Maxen
DTSTAMP:20260422T224358Z
DTSTART:20260704T180000Z
DTEND:20260704T210000Z
END:VEVENT
END:VCALENDAR
