BEGIN:VCALENDAR
VERSION:2.0
PRODID:-//Eventin//Event Calendar//EN
CALSCALE:GREGORIAN
METHOD:PUBLISH
BEGIN:VEVENT
UID:4327eee281b5b6bb684f1cd03b866e14@www.naturbuehnemaxen.de
SUMMARY:Zwei Genies am Rande des Wahnsinns
DESCRIPTION:Foto: Robert Jentzsch\n\nEine Komödie der Woesner Brothers\nGe
 spielt von: Peter Kube und Jürgen Haase\nEin ehemaliger Staatsschauspieler
  und ein Komiker in Geldnot treffen auf einer Probebühne aufeinander\, um 
 gemeinsam einen Auftritt zu erarbeiten\, für den beide über ihre Agenten 
 gebucht sind. Dass sich die beiden nicht ausstehen können\, ist noch das g
 eringste Problem. Denn während der eine glaubt\, er sei für eine Hochzeit
  gebucht\, ist der andere überzeugt\, es geht um eine Beerdigung.\nSo eska
 liert die Probe schnell zu einem Wirrwarr aus Missverständnissen\, bei dem
  nicht nur die Bühnenarbeiter und Putzkräfte ihr blaues (Theater)Wunder e
 rleben.
LOCATION:Naturbühne Maxen
DTSTAMP:20260422T224145Z
DTSTART:20260626T180000Z
DTEND:20260626T210000Z
END:VEVENT
END:VCALENDAR
