BEGIN:VCALENDAR
VERSION:2.0
PRODID:-//Eventin//Event Calendar//EN
CALSCALE:GREGORIAN
METHOD:PUBLISH
BEGIN:VEVENT
UID:93985958cf6d4e3a8ab4e9db6bd6b43d@www.naturbuehnemaxen.de
SUMMARY:Die NotenDealer – Best-Of 2026
DESCRIPTION:Best - Of 2026\nDie NotenDealer\, eine Comedy-Pop-Band aus Dres
 den\, haben sich seit ihrer Gründung im Jahr 2004 zu einer festen Größe 
 in der deutschen Unterhaltungslandschaft entwickelt. Mit ihrem einzigartige
 n Mix aus Musik und Humor begeistern sie ihr Publikum und sind bekannt für
  ihre energiegeladenen Live-Shows.\nIhre Tourneen führen sie durch ganz De
 utschland\, und sie haben sich einen Namen gemacht\, indem sie ihre Zuschau
 er mit einer Kombination aus Kabarett\, Comedy und Popmusik unterhalten. Ih
 re Auftritte sind mehr als nur Konzerte\; sie sind ein Erlebnis voller Krea
 tivität und Spontanität\, das alle Altersgruppen anspricht. Mit über 20 
 Jahren auf der Bühne haben Die NotenDealer bewiesen\, dass sie wissen\, wi
 e man das Publikum fasziniert und eine Show liefert\, die noch lange in Eri
 nnerung bleibt.\nLars Kessler - VocalTim Gernitz - Vocal\, Keytar\, Ukule
 leFelix Günther - Vocal\, GuitarPaul Fröbel - Vocal\, Beatboxing\, Drum
 pad\, Metallophon\, Keytar
LOCATION:Naturbühne Maxen
DTSTAMP:20260423T021211Z
DTSTART:20260814T180000Z
DTEND:20260814T210000Z
END:VEVENT
END:VCALENDAR
