BEGIN:VCALENDAR
VERSION:2.0
PRODID:-//Eventin//Event Calendar//EN
CALSCALE:GREGORIAN
METHOD:PUBLISH
BEGIN:VEVENT
UID:d4a045df6e89d9aac483b2ecf268e2f1@www.naturbuehnemaxen.de
SUMMARY:Kabarett Distel Berlin – „DUMM GELAUFEN…“
DESCRIPTION:Ruwe/Valenske (bekannt aus der Berliner DISTEL) präsentieren: 
 \nDumm gelaufen – Satire für politisch inkorrekte Zeiten\nWährend Wisse
 nschaftler endlich neue Hinweise für Leben im All finden\, hat man auf der
  Erde die Suche nach intelligentem Leben längst eingestellt. Denn egal woh
 in wir schauen\, irgendwo ist immer ein Bekloppter\, der unsere Aufmerksamk
 eit braucht. Sei es ein orangener Mann aus einem weißen Haus\, der Europa 
 mit dem Zollstock vermöbelt\, ein Spahn\, bei dem alle Masken fallen\, ein
  stark begrenzter Dobrindt am Schlagbaum oder die Klöckner von Nebenan\, j
 etzt helfen nur noch starke Medikamente oder richtig gutes Kabarett: Hochpo
 litisch\, höchst gemein und höchstens zwischen den Zeilen versöhnlich bi
 eten die Humorprofis Henning Ruwe und Martin Valenske mit ihrem Programm al
 lem politischen Versagen und seinen Versagern der heutigen Zeit die Stirn.
  \nManchmal unfreiwillig\, aber immer sehr komisch\, ringen sie jeder schw
 ierigen Weltlage doch noch einen gemeinen Lacher ab. Immer streitbar und am
  Rande des Berufsverbots bieten die beiden Kabarettisten scharfe politische
  Satire und stemmen sich damit allgemeiner Beliebigkeit und allen Spaßbefr
 eiten entgegen. Denn die Sachlage ist eindeutig: Satire muss endlich wieder
  absurder werden als die Wirklichkeit! In ihrem bereits fünften gemeinsame
 n Duo-Programm zeigen die beiden aus der Berliner DISTEL bekannten Künstle
 r gekonnt\, wie man bei so viel künstlicher Intelligenz und menschlicher D
 ummheit nicht ganz aus der Verfassung gerät. Mit Leichtigkeit und spitzem 
 Humor gelingt hier\, was in Zeiten von Krieg und Klimakrise oft schwerfäll
 t: Über wirklich relevante Dinge zu reden\, und zwar frei nach Friedrich M
 erz: Was ist schon ein ukrainisches Kind im Minenfeld gegen einen deutschen
  Arbeitsplatz? »Satire für politisch inkorrekte Zeiten« – von führend
 en Optimisten empfohlen!\nFoto: Nancy Ludwig
LOCATION:Naturbühne Maxen
DTSTAMP:20260422T224529Z
DTSTART:20260809T150000Z
DTEND:20260809T180000Z
END:VEVENT
END:VCALENDAR
