BEGIN:VCALENDAR
VERSION:2.0
PRODID:-//Eventin//Event Calendar//EN
CALSCALE:GREGORIAN
METHOD:PUBLISH
BEGIN:VEVENT
UID:fa50d1a12567960f6a4e1b990105d45c@www.naturbuehnemaxen.de
SUMMARY:GARTENGLÜCK – ERST BÜCKEN\, DANN PFLÜCKEN
DESCRIPTION:Mit Michael Specht\, Mandy Partzsch und Erik Lehmann\nSo präse
 ntieren die drei Dresdner Vollblut-Komiker Michael Specht\, Mandy Partzsch 
 und Erik Lehmann ihr quietschvergnügliches Comedy-Feuerwerk voller Musik u
 nd schräger Typen. In einem Dutzend verschiedener Rollen und mit ohrwurmve
 rdächtigen Songs wird dieses „Botanical“ zum Gartenfest des Jahres. Vo
 n Adam und Eva bis zum Vereinsvorsitzenden sind sie alle dabei. Denn ob Gar
 ten Eden oder Parzelle in der Sparte – fest steht: Nur die Harten komm' i
 n Garten!\n\nDavon kann auch die durchgeknallte Wirtin Darinka Becherovkova
  vom Vereinslokal „Krumme Gurke“ ein Liedchen singen. An ihrem Tresen t
 rifft Gartenguru auf ambitionierten Sparten-Hipster\, Tierfreund auf Grillm
 eister und Heilkräuterexperte auf Mauerblümchen. Hier werden die Sorgen d
 es Alltags abgelegt oder wahlweise gepflegt. Hier wird gejätet und gesoffe
 n\, Samen getauscht und hinterm Komposthaufen so manches Kind gezeugt. Zwis
 chen Kartoffeln und Kürbis ist die Welt noch in Ordnung und am Ende findet
  jeder sein Gartenglück.\n\nwww.gartenglück-show.de\n\n 
LOCATION:Online
DTSTAMP:20260422T225848Z
DTSTART:20260816T150000Z
DTEND:20260816T180000Z
END:VEVENT
END:VCALENDAR
