BEGIN:VCALENDAR
VERSION:2.0
PRODID:-//Eventin//Event Calendar//EN
CALSCALE:GREGORIAN
METHOD:PUBLISH
BEGIN:VEVENT
UID:df319b76ea21c7ab0731c5444c43025b@www.naturbuehnemaxen.de
SUMMARY:Halloweenparty 2026
DESCRIPTION:Gruselspaß im Maxenwald - 3. Halloweenparty\n\nDunkle Gestalte
 n tanzen durch den Maxenwald\, mystisches Licht flackert am historischen Ka
 lkofen\, aus der Ferne klingt Hexengelächter und Geisterrascheln… \n\nD
 as kann nur eins bedeuten: Unsere Halloweenparty geht in die zweite Runde 
 – und wird noch zauberhafter\, spannender und gruseliger als im letzten J
 ahr!\nKommt vorbei und erlebt zwischen 17:00 und etwa 20:00 Uhr einen unver
 gesslichen Abend voller Magie\, Spaß und Schauerromantik im Maxenwald rund
  um Naturbühne und Kalkofen:\n\n\n2 Feuershows am Kalkofen Maxen\n\n\nIn z
 wei Feuershows vereint Frau Funkelfix vor der Kulisse des historischen Kalk
 ofens Feuer\, Tanz und Schauspiel - und lädt ein zu einer faszinierenden D
 arbietung im Spiel mit brennenden Stäben\, Flammenfächern und vielem mehr
 .\n\n\nGespenstergeschichten am Lagerfeuer\n\n\nAußerdem erwartet euch am 
 Kalkofen wieder ein Lagerfeuer\, an dem ihr Knüppelkuchen backen\, einfach
  in die Flammen träumen oder dem Märchenerzähler lauschen könnt.\n\n\n\
 n\n\n\ngespenstische Kinderzirkusshow\n\n\nAuf unserer großen Bühne heiß
 t es „Manege frei“ für eine gespenstische Kinderzirkusshow mit dem Hoc
 hlandzirkus Dresden e.V.: Junge Artistentalente verzaubern euch mit ihrem g
 roßen Können mit Akrobatik\, Jonglage\, Balanceakten\, Spiel und Spaß.\n
 \n\nDie kleine Hexe\n\n\nEbenfalls auf der großen Bühne dürft ihr beim T
 anz der Hexen zur Walpurgisnacht dabei sein - wir zeigen letztmalig einen A
 usschnitt aus unserem Erfolgsstück 2024 / 2025 „Die kleine Hexe“ nach 
 Otfried Preußler.\n\n\nGruselfilmchen\n\n\nHereinspaziert in das vielleich
 t kleinste Kino der Welt! Euch erwarten in einem gemütlichen Ambiente mehr
 ere bezaubernd - gruselige Ultrakurzfilmvorstellungen!\n\n\nSchminken\, Bas
 teln\, Ausprobieren\n\n\nUnd natürlich geht es auch wieder kreativ zu! Daz
 u könnt ihr euch an der Bastelstraße ausprobieren oder beim Schminken in 
 eine ganz neue Rolle schlüpfen.\n\nUnterwegs im Gruselwald\n\n\nZum Abschl
 uss geht es für alle Mutigen durch den düsteren Maxenwald\, in dem bereit
 s alle (un)möglichen Geister und (un)heimlichen Geräusche auf euch warten
 . \n\n \nUnd bestimmt wartet noch die eine oder andere Überraschung auf 
 euch! So werden die besten schön - schaurigen Kostüme mit einer Freikarte
  für unser Familienstück 2026 prämiert. \n \nSelbstverständlich ist f
 ür einen umfassenden Imbiss gesorgt - von Hexenwatte über Leichenfinger\,
  Geisterpopel\, Zauberwasser und vieles mehr.\n \nDas gesamte Programm ist
  bereits im Eintrittspreis enthalten\; einzig für den Imbiss müsst ihr ei
 n paar Zaubertaler bereithalten.
LOCATION:Naturbühne Maxen
DTSTAMP:20260425T121809Z
DTSTART:20261030T160000Z
DTEND:20261030T190000Z
END:VEVENT
END:VCALENDAR
