BEGIN:VCALENDAR
VERSION:2.0
PRODID:-//Eventin//Event Calendar//EN
CALSCALE:GREGORIAN
METHOD:PUBLISH
BEGIN:VEVENT
UID:22c6d80129beebdb782e3dffa5ea5e50@www.naturbuehnemaxen.de
SUMMARY:Open Air Schlagerparty 2026
DESCRIPTION:Bereit für Herzklopfen\, Ohrwurmgarantie und pure Emotion?\n 
 \n\nAuf der Naturbühne findet zum dritten mal eine Schlagerparty statt. F
 ür die Musik sorgt natürlich wieder\n[caption id="attachment_22987" align
 ="alignnone" width="300"] Bodo Giessner (Foto: Tobias Koch)[/caption]\nBodo
  Gießner -  bekannt als Moderator der Deutschen Hitparade beim MDR Sachse
 nradio und als Moderator der ARD Hitnacht.\nUnd als besonderes Highlight is
 t dieses Jahr Anthony Weihs!\n \nEr steht für mitreißende Konzertmomente
  voller Emotion\, musikalischer Qualität und generationsübergreifender En
 ergie. Mit Songs wie Unser Moment oder Im Zweifel für die Liebe hat er ein
 e eindrucksvolle Diskografie geschaffen und sich im modernen deutschen Schl
 ager etabliert. Neben seinen eigenen Titeln und den größten deutschen Sch
 lager- und Popsongs präsentiert Anthony Weihs auch die Hits der 80er Jahre
  – neu interpretiert im Soundgewand von 2025. So entsteht ein einzigartig
 er Mix aus Kult und Zeitgeist\, der jedes Konzert zu einem besonderen Erleb
 nis macht.\nSeid dabei und feiert mit uns einen unvergesslichen Abend volle
 r Schlagerliebe! ❤️🎤\n 
LOCATION:Online
DTSTAMP:20260423T023612Z
DTSTART:20260822T180000Z
DTEND:20260822T215500Z
END:VEVENT
END:VCALENDAR
