BEGIN:VCALENDAR
VERSION:2.0
PRODID:-//Eventin//Event Calendar//EN
CALSCALE:GREGORIAN
METHOD:PUBLISH
BEGIN:VEVENT
UID:66760987557d0650aa4d17a89894706e@www.naturbuehnemaxen.de
SUMMARY:Sechse kommen durch die ganze Welt – Theatergruppe Maxen
DESCRIPTION:Im Anschluss findet ein Lampionumzug mit den Schauspielern stat
 t.\nDer Soldat hat seine Schuldigkeit getan ... doch Königin und Prinzessi
 n haben nicht einmal mitbekommen\, dass Krieg war und lachen ihn aus\, als 
 er zum Schloss kommt\, um seinen Lohn einzufordern. Nur wenn man nicht alle
 ine ist\, kann man etwas erreichen\, das merkt der schlaue Soldat schnell\,
  als er zuerst den starken Herkules\, dann Adlerblick\, dann Pustekuchen\, 
 und schließlich Wieselflink und Schrägerethe trifft. Sie beschließen\, g
 emeinsam zum Schloss zu ziehen\, um die Königin zu überlisten.Denn wie es
  im Leben meistens ist\, jeder von ihnen kann etwas anderes besonders gut\,
  und so schaffen sie es gemeinsam - mit Bärenkräften\, einem gezielten Sc
 huss\, einem schnellen Lauf\, plötzlicher Eiseskälte und viel\, viel Wind
  - die Gerechtigkeit wiederherzustellen.\n\nNach dem Märchen der Brüder G
 rimm in der Fassung von Thorsten Böhner und mit Liedern von Stefan Bunte n
 ach traditionellen irischen FolksongsRegie: Jürgen Stegmann\nSpielzeit ca.
  100 Minuten + eine Pause\n\n \n\n* ermäßigter Eintritt nur für Kinder 
 von 3 bis 14 Jahren
LOCATION:Naturbühne Maxen
DTSTAMP:20260425T123453Z
DTSTART:20260912T163000Z
DTEND:20260912T184500Z
END:VEVENT
END:VCALENDAR
