BEGIN:VCALENDAR
VERSION:2.0
PRODID:-//Eventin//Event Calendar//EN
CALSCALE:GREGORIAN
METHOD:PUBLISH
BEGIN:VEVENT
UID:71b7b22ef848a300c9fca3a6c1b49205@www.naturbuehnemaxen.de
SUMMARY:Pension Schöller – Theatergruppe Maxen
DESCRIPTION:+++ letzte Aufführung dieses Stückes +++\nDie Theatergruppe M
 axen führt auch in der Saison 2026 den erfolgreichen Klassiker deutscher K
 omödien "Pension Schöller" in der Fassung von Sigrid Vorpahl nach einer V
 orlage von Wilhelm Jacoby und Carl Laufs auf.\n\n[metaslider id="15656"]\n\
 nDie pure Neugierde treibt Philipp Klapproth nach Berlin. Wohlhabend\, aber
  gelangweilt von seinem Landhausleben\, zieht es ihn in die quirlige Großs
 tadt\, um endlich mal etwas Besonderes zu erleben. Denn in der Großstadt\,
  so hat er gehört\, sind die Verrückten. Und die muss ihm jetzt sein Neff
 e Alfred zeigen\, damit er zu Hause davon am Stammtisch erzählen kann.\n\n
  \n\nDer junge Alfred wiederrum hat viele Ideen\, aber wenig Mittel um sie
  umzusetzen. „Zeig mir ein Irrenhaus von innen und ich leihe dir Geld fü
 r dein Projekt“\, hat sein Onkel Philipp ihm versprochen. Doch was tun\, 
 wenn gerade keine echte Anstalt zur Besichtigung steht? Doch Alfred hat ein
 e geniale Idee: Er präsentiert seinem Onkel die in der Tat sehr sonderbare
 n Gäste der Pension Schöller als Irre.\n\n \n\nPhilipp Klapproth amüsie
 rt sich prächtig inmitten der „Bekloppten“ und fährt mit dem Gefühl 
 richtig was erlebt zu haben\, wieder nach Hause. Doch plötzlich stehen die
  „Irren“ vor seiner eigenen Tür … Wer normal und wer verrückt ist\,
  scheint in dieser äußerst unterhaltsamen Komödie lediglich eine Frage d
 er Perspektive.\n\n \n\nRegie: Jürgen Stegmann
LOCATION:Naturbühne Maxen
DTSTAMP:20260425T123021Z
DTSTART:20260913T150000Z
DTEND:20260913T180000Z
END:VEVENT
END:VCALENDAR
