BEGIN:VCALENDAR
VERSION:2.0
PRODID:-//Eventin//Event Calendar//EN
CALSCALE:GREGORIAN
METHOD:PUBLISH
BEGIN:VEVENT
UID:3c504b8c77c3ce3a0beff76814b45d06@www.naturbuehnemaxen.de
SUMMARY:Theatergruppe Maxen - Der Campiello
DESCRIPTION:[metaslider id=642 cssclass=""]\n\n\n\nVenedig im Jahre 1756. E
 s ist Winter. Der Karneval hat gerade begonnen.Der "Campiello" ist ein klei
 ner Platz in einer sehr kleinen Stadt. Die Bewohner sind arme Leute. Ihre S
 chicksale sind miteinander verwoben\, ihre Freuden und Sorgen sind die glei
 chen. Sie streiten und sie lieben sich\, sie zanken und versöhnen sich. Un
 d verstehen natürlich auch\, zu feiern ...Obwohl dieses Stück 267 Jahre a
 lt ist\, haben die Themen nichts an Aktualität verloren. Im Gegenteil. Die
  Neu-Inszenierung der Theatergruppe Maxen auf der herrlichen Naturbühne ve
 rspricht köstlichste Unterhaltung unter sommermildem Abendhimmel.\n\n\n\nK
 omödie von Carlo GoldoniSpielfassung der Theatergruppe MaxenRegie: Jürgen
  Stegmann
LOCATION:Online
DTSTAMP:20260422T082909Z
DTSTART:20240817T180000Z
DTEND:20260422T203000Z
END:VEVENT
END:VCALENDAR
