BEGIN:VCALENDAR
VERSION:2.0
PRODID:-//Eventin//Event Calendar//EN
CALSCALE:GREGORIAN
METHOD:PUBLISH
BEGIN:VEVENT
UID:3147904882dd11b9e5681911185ca9cb@www.naturbuehnemaxen.de
SUMMARY:Zärtlichkeiten mit Freunden - Die schönsten Momente (eine Art Bes
 t-Of-Programm)
DESCRIPTION:Ines Fleiwa und Cordula Zwischenfisch kennen sich schon seit fa
 st immer.Und fast genauso lange betreiben die beiden eine Band: "Die bekann
 te Band Zärtlichkeiten mit Freunden". Neben mäßig gespielter Musik und g
 eklauten Witzen haben sie nicht viel zu bieten. Das zumindest behaupten sie
  von sich selbst.Schier unerklärlich erscheint es da\, dass bei Ihnen übe
 r 20 Kleinkunst- und Comedypreise auf dem Schrank stehen.\n\n\n\nNach reifl
 icher Überlegung haben sich die beiden Grobmusiker entschlossen\, die sch
 önsten Momente aus mehreren Dekaden "Zärtlichkeiten mit Freunden" auf die
  Bühnen der Schengen-Staaten zu bringen. Bei der Nominierung zum Deutschen
  Comedypreis sagte Michael Mittermeier einst über sie: „Ihnen ist es gel
 ungen\, aus Lakonie eine Dampfwalze zu basteln und während wir schon über
  sie lachen\, tuckern sie ganz entspannt über uns hinweg.“
LOCATION:Online
DTSTAMP:20260422T230038Z
DTSTART:20240608T180000Z
DTEND:20260423T210000Z
END:VEVENT
END:VCALENDAR
